BEGIN:VCALENDAR
VERSION:2.0
PRODID:-//Aïdeo Chorale - ECPv6.15.11//NONSGML v1.0//EN
CALSCALE:GREGORIAN
METHOD:PUBLISH
X-WR-CALNAME:Aïdeo Chorale
X-ORIGINAL-URL:https://www.chorale-aideo.fr
X-WR-CALDESC:Évènements pour Aïdeo Chorale
REFRESH-INTERVAL;VALUE=DURATION:PT1H
X-Robots-Tag:noindex
X-PUBLISHED-TTL:PT1H
BEGIN:VTIMEZONE
TZID:Europe/Paris
BEGIN:DAYLIGHT
TZOFFSETFROM:+0100
TZOFFSETTO:+0200
TZNAME:CEST
DTSTART:20210328T010000
END:DAYLIGHT
BEGIN:STANDARD
TZOFFSETFROM:+0200
TZOFFSETTO:+0100
TZNAME:CET
DTSTART:20211031T010000
END:STANDARD
BEGIN:DAYLIGHT
TZOFFSETFROM:+0100
TZOFFSETTO:+0200
TZNAME:CEST
DTSTART:20220327T010000
END:DAYLIGHT
BEGIN:STANDARD
TZOFFSETFROM:+0200
TZOFFSETTO:+0100
TZNAME:CET
DTSTART:20221030T010000
END:STANDARD
BEGIN:DAYLIGHT
TZOFFSETFROM:+0100
TZOFFSETTO:+0200
TZNAME:CEST
DTSTART:20230326T010000
END:DAYLIGHT
BEGIN:STANDARD
TZOFFSETFROM:+0200
TZOFFSETTO:+0100
TZNAME:CET
DTSTART:20231029T010000
END:STANDARD
END:VTIMEZONE
BEGIN:VEVENT
DTSTART;TZID=Europe/Paris:20220425T190000
DTEND;TZID=Europe/Paris:20220425T210000
DTSTAMP:20260423T092627
CREATED:20220420T200157Z
LAST-MODIFIED:20220420T200157Z
UID:2786-1650913200-1650920400@www.chorale-aideo.fr
SUMMARY:CA
DESCRIPTION:
URL:https://www.chorale-aideo.fr/index.php/event/ca/
LOCATION:Conservatoire de Musique\, 5\, esplanade Rabelais\, Hérouville Saint Clair\, 14200\, France
CATEGORIES:CA
END:VEVENT
END:VCALENDAR