BEGIN:VCALENDAR
VERSION:2.0
PRODID:-//Aïdeo Chorale - ECPv6.15.11//NONSGML v1.0//EN
CALSCALE:GREGORIAN
METHOD:PUBLISH
X-WR-CALNAME:Aïdeo Chorale
X-ORIGINAL-URL:https://www.chorale-aideo.fr
X-WR-CALDESC:Évènements pour Aïdeo Chorale
REFRESH-INTERVAL;VALUE=DURATION:PT1H
X-Robots-Tag:noindex
X-PUBLISHED-TTL:PT1H
BEGIN:VTIMEZONE
TZID:Europe/Paris
BEGIN:DAYLIGHT
TZOFFSETFROM:+0100
TZOFFSETTO:+0200
TZNAME:CEST
DTSTART:20190331T010000
END:DAYLIGHT
BEGIN:STANDARD
TZOFFSETFROM:+0200
TZOFFSETTO:+0100
TZNAME:CET
DTSTART:20191027T010000
END:STANDARD
BEGIN:DAYLIGHT
TZOFFSETFROM:+0100
TZOFFSETTO:+0200
TZNAME:CEST
DTSTART:20200329T010000
END:DAYLIGHT
BEGIN:STANDARD
TZOFFSETFROM:+0200
TZOFFSETTO:+0100
TZNAME:CET
DTSTART:20201025T010000
END:STANDARD
BEGIN:DAYLIGHT
TZOFFSETFROM:+0100
TZOFFSETTO:+0200
TZNAME:CEST
DTSTART:20210328T010000
END:DAYLIGHT
BEGIN:STANDARD
TZOFFSETFROM:+0200
TZOFFSETTO:+0100
TZNAME:CET
DTSTART:20211031T010000
END:STANDARD
END:VTIMEZONE
BEGIN:VEVENT
DTSTART;TZID=Europe/Paris:20201006T200000
DTEND;TZID=Europe/Paris:20201006T220000
DTSTAMP:20260423T231643
CREATED:20200912T144343Z
LAST-MODIFIED:20201004T204420Z
UID:1770-1602014400-1602021600@www.chorale-aideo.fr
SUMMARY:Répétition 5 :                                                                                                                                           Deux chœurs
DESCRIPTION:20h00-21h00 : Chœur 1 (Sopranos : Séverine\, Maryse\, Marie-Hélène\, Agnès\, Ginette\, Patricia JB\, Claire / Altos : Katia\, Magali\, Nicole\, Fabienne P\, Christine\, Irène\, Marie-Lise\, Martine\, Mireille / Ténors : Guillaume\, Jean-Paul\, Alain\, Patrick\, Gilles / Basses : Jacques\, Jean-Claude\, Pascal\, Sébastien\, Jon) \n21h00-22h00 : Chœur 2 (Sopranos : Anne-Marie S\, Cécile\, Monique B\, Elisabeth\, Isabelle\, Monique T\, Sylvie L / Altos : Laurence\, Anne-Marie D\, Evelyne\, Nadine\, Patricia Q\, Véronique B\, Fabienne J\, Sylvie L.M. / Ténors : Guillaume\, Jean-Paul\, Alain\, Patrick\, Gilles / Basses : Pierre\, Jean-Claude\, Pascal\, Sébastien) \nProgramme : \nTOURDION\nLES FEUILLES MORTES (chanté par les anciens)\nSHENANDOAH\nTEA FOR TWO\nT’AS BEAU PAS ÊTRE BEAU\nGET LUCKY\nMEDLEY DE PIAF (chanté par les anciens)\nFREEDOM
URL:https://www.chorale-aideo.fr/index.php/event/repetition-5-petits-choeurs/
LOCATION:Salle Auber\, 405 Haute Folie\, Hérouville Saint Clair\, 14200\, France
CATEGORIES:Répétition
END:VEVENT
END:VCALENDAR