BEGIN:VCALENDAR
VERSION:2.0
PRODID:-//Aïdeo Chorale - ECPv6.15.11//NONSGML v1.0//EN
CALSCALE:GREGORIAN
METHOD:PUBLISH
X-ORIGINAL-URL:https://www.chorale-aideo.fr
X-WR-CALDESC:Évènements pour Aïdeo Chorale
REFRESH-INTERVAL;VALUE=DURATION:PT1H
X-Robots-Tag:noindex
X-PUBLISHED-TTL:PT1H
BEGIN:VTIMEZONE
TZID:Europe/Paris
BEGIN:DAYLIGHT
TZOFFSETFROM:+0100
TZOFFSETTO:+0200
TZNAME:CEST
DTSTART:20190331T010000
END:DAYLIGHT
BEGIN:STANDARD
TZOFFSETFROM:+0200
TZOFFSETTO:+0100
TZNAME:CET
DTSTART:20191027T010000
END:STANDARD
BEGIN:DAYLIGHT
TZOFFSETFROM:+0100
TZOFFSETTO:+0200
TZNAME:CEST
DTSTART:20200329T010000
END:DAYLIGHT
BEGIN:STANDARD
TZOFFSETFROM:+0200
TZOFFSETTO:+0100
TZNAME:CET
DTSTART:20201025T010000
END:STANDARD
BEGIN:DAYLIGHT
TZOFFSETFROM:+0100
TZOFFSETTO:+0200
TZNAME:CEST
DTSTART:20210328T010000
END:DAYLIGHT
BEGIN:STANDARD
TZOFFSETFROM:+0200
TZOFFSETTO:+0100
TZNAME:CET
DTSTART:20211031T010000
END:STANDARD
END:VTIMEZONE
BEGIN:VEVENT
DTSTART;TZID=Europe/Paris:20201201T200000
DTEND;TZID=Europe/Paris:20201201T220000
DTSTAMP:20260423T201823
CREATED:20201105T113741Z
LAST-MODIFIED:20201105T114338Z
UID:2018-1606852800-1606860000@www.chorale-aideo.fr
SUMMARY:Répétition 6 pour sopranos
DESCRIPTION:20h00 – 21h00 : Sopranos avec chef / Salle Auber ——————– 21h00 – 22h00 : Sopranos en autonomie / Salle Auber
URL:https://www.chorale-aideo.fr/index.php/event/repetition-6-pour-sopranos/
LOCATION:Salle Auber\, 405 Haute Folie\, Hérouville Saint Clair\, 14200\, France
CATEGORIES:Répétition
END:VEVENT
BEGIN:VEVENT
DTSTART;TZID=Europe/Paris:20201201T202000
DTEND;TZID=Europe/Paris:20201201T222000
DTSTAMP:20260423T201823
CREATED:20201105T113905Z
LAST-MODIFIED:20201105T114312Z
UID:2020-1606854000-1606861200@www.chorale-aideo.fr
SUMMARY:Répétition 6 pour altos
DESCRIPTION:20h20 – 21h20 : Altos en autonomie / Conservatoire ——————– 21h20 – 22h20 : Altos avec chef / Conservatoire
URL:https://www.chorale-aideo.fr/index.php/event/repetition-6-pour-altos/
LOCATION:Conservatoire de Musique\, 5\, esplanade Rabelais\, Hérouville Saint Clair\, 14200\, France
CATEGORIES:Répétition
END:VEVENT
BEGIN:VEVENT
DTSTART;TZID=Europe/Paris:20201208T200000
DTEND;TZID=Europe/Paris:20201208T220000
DTSTAMP:20260423T201823
CREATED:20201105T114505Z
LAST-MODIFIED:20201105T114715Z
UID:2025-1607457600-1607464800@www.chorale-aideo.fr
SUMMARY:Répétition 7 pour les Hommes
DESCRIPTION:20h00 – 21h00 : Hommes avec chef / Salle Auber ——————– 21h00 – 22h00 : Hommes en autonomie / Salle Auber
URL:https://www.chorale-aideo.fr/index.php/event/repetition-7-pour-les-hommes/
LOCATION:Salle Auber\, 405 Haute Folie\, Hérouville Saint Clair\, 14200\, France
CATEGORIES:Répétition
END:VEVENT
BEGIN:VEVENT
DTSTART;TZID=Europe/Paris:20201208T202000
DTEND;TZID=Europe/Paris:20201208T222000
DTSTAMP:20260423T201823
CREATED:20201105T114644Z
LAST-MODIFIED:20201105T114722Z
UID:2027-1607458800-1607466000@www.chorale-aideo.fr
SUMMARY:Répétition 7 pour sopranos
DESCRIPTION:20h20 – 21h20 : Sopranos en autonomie / Conservatoire ——————– 21h20 – 22h20 : Sopranos avec chef / Conservatoire
URL:https://www.chorale-aideo.fr/index.php/event/repetition-7-pour-sopranos/
LOCATION:Conservatoire de Musique\, 5\, esplanade Rabelais\, Hérouville Saint Clair\, 14200\, France
CATEGORIES:Répétition
END:VEVENT
BEGIN:VEVENT
DTSTART;TZID=Europe/Paris:20201215T200000
DTEND;TZID=Europe/Paris:20201215T220000
DTSTAMP:20260423T201823
CREATED:20201105T114840Z
LAST-MODIFIED:20201105T114855Z
UID:2029-1608062400-1608069600@www.chorale-aideo.fr
SUMMARY:Répétition 8 pour Altos
DESCRIPTION:20h00 – 21h00 : Altos avec chef / Salle Auber ——————– 21h00 – 22h00 : Altos en autonomie / Salle Auber
URL:https://www.chorale-aideo.fr/index.php/event/repetition-8-pour-altos/
LOCATION:Salle Auber\, 405 Haute Folie\, Hérouville Saint Clair\, 14200\, France
CATEGORIES:Répétition
END:VEVENT
BEGIN:VEVENT
DTSTART;TZID=Europe/Paris:20201215T202000
DTEND;TZID=Europe/Paris:20201215T222000
DTSTAMP:20260423T201823
CREATED:20201105T115037Z
LAST-MODIFIED:20201105T115048Z
UID:2033-1608063600-1608070800@www.chorale-aideo.fr
SUMMARY:Répétition 8 pour les Hommes
DESCRIPTION:20h20 – 21h20 : Hommes en autonomie / Conservatoire ——————– 21h20 – 22h20 : Hommes avec chef / Conservatoire
URL:https://www.chorale-aideo.fr/index.php/event/repetition-8-pour-les-hommes/
LOCATION:Conservatoire de Musique\, 5\, esplanade Rabelais\, Hérouville Saint Clair\, 14200\, France
CATEGORIES:Répétition
END:VEVENT
END:VCALENDAR