BEGIN:VCALENDAR
VERSION:2.0
PRODID:-//Aïdeo Chorale - ECPv6.15.11//NONSGML v1.0//EN
CALSCALE:GREGORIAN
METHOD:PUBLISH
X-WR-CALNAME:Aïdeo Chorale
X-ORIGINAL-URL:https://www.chorale-aideo.fr
X-WR-CALDESC:Évènements pour Aïdeo Chorale
REFRESH-INTERVAL;VALUE=DURATION:PT1H
X-Robots-Tag:noindex
X-PUBLISHED-TTL:PT1H
BEGIN:VTIMEZONE
TZID:Europe/Paris
BEGIN:DAYLIGHT
TZOFFSETFROM:+0100
TZOFFSETTO:+0200
TZNAME:CEST
DTSTART:20210328T010000
END:DAYLIGHT
BEGIN:STANDARD
TZOFFSETFROM:+0200
TZOFFSETTO:+0100
TZNAME:CET
DTSTART:20211031T010000
END:STANDARD
BEGIN:DAYLIGHT
TZOFFSETFROM:+0100
TZOFFSETTO:+0200
TZNAME:CEST
DTSTART:20220327T010000
END:DAYLIGHT
BEGIN:STANDARD
TZOFFSETFROM:+0200
TZOFFSETTO:+0100
TZNAME:CET
DTSTART:20221030T010000
END:STANDARD
BEGIN:DAYLIGHT
TZOFFSETFROM:+0100
TZOFFSETTO:+0200
TZNAME:CEST
DTSTART:20230326T010000
END:DAYLIGHT
BEGIN:STANDARD
TZOFFSETFROM:+0200
TZOFFSETTO:+0100
TZNAME:CET
DTSTART:20231029T010000
END:STANDARD
END:VTIMEZONE
BEGIN:VEVENT
DTSTART;TZID=Europe/Paris:20220201T200000
DTEND;TZID=Europe/Paris:20220201T220000
DTSTAMP:20260422T201750
CREATED:20220126T145810Z
LAST-MODIFIED:20220126T150014Z
UID:2456-1643745600-1643752800@www.chorale-aideo.fr
SUMMARY:Répétition 16
DESCRIPTION:Asimbonanga \nLes mains d’or \nT’as beau pas être beau \nCalifornia dreaming \nZiambe O
URL:https://www.chorale-aideo.fr/index.php/event/repetition-15-2/
LOCATION:Conservatoire de Musique\, 5\, esplanade Rabelais\, Hérouville Saint Clair\, 14200\, France
CATEGORIES:Répétition
END:VEVENT
BEGIN:VEVENT
DTSTART;TZID=Europe/Paris:20220222T200000
DTEND;TZID=Europe/Paris:20220222T220000
DTSTAMP:20260422T201750
CREATED:20220223T130842Z
LAST-MODIFIED:20220223T130842Z
UID:2623-1645560000-1645567200@www.chorale-aideo.fr
SUMMARY:Répétition 17
DESCRIPTION:Asimbonanga : apprentissage du premier couplet \nLes mains d’or : révision \nT’as beau pas être beau
URL:https://www.chorale-aideo.fr/index.php/event/repetition-17/
LOCATION:Conservatoire de Musique\, 5\, esplanade Rabelais\, Hérouville Saint Clair\, 14200\, France
CATEGORIES:Répétition
END:VEVENT
END:VCALENDAR