BEGIN:VCALENDAR
VERSION:2.0
PRODID:-//Aïdeo Chorale - ECPv6.15.11//NONSGML v1.0//EN
CALSCALE:GREGORIAN
METHOD:PUBLISH
X-ORIGINAL-URL:https://www.chorale-aideo.fr
X-WR-CALDESC:Évènements pour Aïdeo Chorale
REFRESH-INTERVAL;VALUE=DURATION:PT1H
X-Robots-Tag:noindex
X-PUBLISHED-TTL:PT1H
BEGIN:VTIMEZONE
TZID:Europe/Paris
BEGIN:DAYLIGHT
TZOFFSETFROM:+0100
TZOFFSETTO:+0200
TZNAME:CEST
DTSTART:20210328T010000
END:DAYLIGHT
BEGIN:STANDARD
TZOFFSETFROM:+0200
TZOFFSETTO:+0100
TZNAME:CET
DTSTART:20211031T010000
END:STANDARD
BEGIN:DAYLIGHT
TZOFFSETFROM:+0100
TZOFFSETTO:+0200
TZNAME:CEST
DTSTART:20220327T010000
END:DAYLIGHT
BEGIN:STANDARD
TZOFFSETFROM:+0200
TZOFFSETTO:+0100
TZNAME:CET
DTSTART:20221030T010000
END:STANDARD
BEGIN:DAYLIGHT
TZOFFSETFROM:+0100
TZOFFSETTO:+0200
TZNAME:CEST
DTSTART:20230326T010000
END:DAYLIGHT
BEGIN:STANDARD
TZOFFSETFROM:+0200
TZOFFSETTO:+0100
TZNAME:CET
DTSTART:20231029T010000
END:STANDARD
END:VTIMEZONE
BEGIN:VEVENT
DTSTART;TZID=Europe/Paris:20220301T200000
DTEND;TZID=Europe/Paris:20220301T220000
DTSTAMP:20260422T184237
CREATED:20220223T131236Z
LAST-MODIFIED:20220223T131236Z
UID:2625-1646164800-1646172000@www.chorale-aideo.fr
SUMMARY:Répétition 18
DESCRIPTION:Ziambe O : apprentissage des paroles des couplets \nAsimbonanga : apprentissage du deuxième couplet et du refrain bis \nLes mains d’or : accord final \nMedley de Piaf : révision
URL:https://www.chorale-aideo.fr/index.php/event/repetition-18/
LOCATION:Conservatoire de Musique\, 5\, esplanade Rabelais\, Hérouville Saint Clair\, 14200\, France
CATEGORIES:Répétition
END:VEVENT
BEGIN:VEVENT
DTSTART;TZID=Europe/Paris:20220308T200000
DTEND;TZID=Europe/Paris:20220308T220000
DTSTAMP:20260422T184237
CREATED:20220223T132850Z
LAST-MODIFIED:20220313T132951Z
UID:2635-1646769600-1646776800@www.chorale-aideo.fr
SUMMARY:Répétition 19 : Répétition annulée : Marie est malade
DESCRIPTION:Sing Sing Sing : apprentissage / révision \nAsimbonanga : apprentissage / révision de la page 5 + filage \nShenandoah : révision \nCouleur Café : révision
URL:https://www.chorale-aideo.fr/index.php/event/repetition-19/
LOCATION:Conservatoire de Musique\, 5\, esplanade Rabelais\, Hérouville Saint Clair\, 14200\, France
CATEGORIES:Répétition
END:VEVENT
BEGIN:VEVENT
DTSTART;TZID=Europe/Paris:20220315T200000
DTEND;TZID=Europe/Paris:20220315T220000
DTSTAMP:20260422T184237
CREATED:20220223T132931Z
LAST-MODIFIED:20220313T133053Z
UID:2637-1647374400-1647381600@www.chorale-aideo.fr
SUMMARY:Répétition 20
DESCRIPTION:Sing Sing Sing : apprentissage / révision \nAsimbonanga : apprentissage / révision de la page 5 + filage \nShenandoah : révision \nCouleur Café : révision
URL:https://www.chorale-aideo.fr/index.php/event/repetition-20/
LOCATION:Conservatoire de Musique\, 5\, esplanade Rabelais\, Hérouville Saint Clair\, 14200\, France
CATEGORIES:Répétition
END:VEVENT
BEGIN:VEVENT
DTSTART;TZID=Europe/Paris:20220322T200000
DTEND;TZID=Europe/Paris:20220322T220000
DTSTAMP:20260422T184237
CREATED:20220223T133034Z
LAST-MODIFIED:20220313T133249Z
UID:2639-1647979200-1647986400@www.chorale-aideo.fr
SUMMARY:Répétition 21 dans la salle d'orchestre
DESCRIPTION:Avec le pianiste Sébastien  BOUVIER
URL:https://www.chorale-aideo.fr/index.php/event/repetition-21/
CATEGORIES:Répétition
END:VEVENT
BEGIN:VEVENT
DTSTART;TZID=Europe/Paris:20220329T200000
DTEND;TZID=Europe/Paris:20220329T220000
DTSTAMP:20260422T184237
CREATED:20220223T133114Z
LAST-MODIFIED:20220223T133114Z
UID:2641-1648584000-1648591200@www.chorale-aideo.fr
SUMMARY:Répétition 22
DESCRIPTION:
URL:https://www.chorale-aideo.fr/index.php/event/repetition-22/
LOCATION:Conservatoire de Musique\, 5\, esplanade Rabelais\, Hérouville Saint Clair\, 14200\, France
CATEGORIES:Répétition
END:VEVENT
BEGIN:VEVENT
DTSTART;TZID=Europe/Paris:20220331T194500
DTEND;TZID=Europe/Paris:20220331T220000
DTSTAMP:20260422T184237
CREATED:20220223T133207Z
LAST-MODIFIED:20220329T185311Z
UID:2643-1648755900-1648764000@www.chorale-aideo.fr
SUMMARY:Répétition générale
DESCRIPTION:Venir avec votre chèche de couleur (nous rectifierons ainsi la palette de couleur si besoin). \nNous apporterons les pochettes rouges pour que chaque choriste puisse y glisser les partitions de Asimbonanga\, des quatre chants communs (Shenandoah\, Medley de Piaf\, Everybody sing Freedom\, Sing sing sing) ainsi que l’hymne Ukrainien. \nL’échauffement commencera avec Marie à 20h00 avec les deux chœurs réunis\, et on enchaînera les quatre chants communs + l’hymne Ukrainien. \n  \nEnsuite\, un temps d’une demi-heure pour chaque chœur sera accordé pour prendre nos marques\, tester la résonance du lieu et voir certains passages qui ont besoin d’être revus avec Sébastien. \n  \nATTENTION !!! Mise en place en respectant les tailles des personnes \n  \nDes broches de tissu aux couleurs de l’Ukraine vous seront distribuées. Merci de les garder précieusement et de les porter le jour du concert sous le chèche. \nLors du chant en question\, on retirera les chèches.
URL:https://www.chorale-aideo.fr/index.php/event/repetition-generale/
LOCATION:Eglise Saint-Pierre et Saint-Paul\, 2 Rue de la Cité Libérée\, Colombelles\, 14460\, France
CATEGORIES:Répétition
END:VEVENT
END:VCALENDAR