BEGIN:VCALENDAR
VERSION:2.0
PRODID:-//Aïdeo Chorale - ECPv6.15.11//NONSGML v1.0//EN
CALSCALE:GREGORIAN
METHOD:PUBLISH
X-WR-CALNAME:Aïdeo Chorale
X-ORIGINAL-URL:https://www.chorale-aideo.fr
X-WR-CALDESC:Évènements pour Aïdeo Chorale
REFRESH-INTERVAL;VALUE=DURATION:PT1H
X-Robots-Tag:noindex
X-PUBLISHED-TTL:PT1H
BEGIN:VTIMEZONE
TZID:Europe/Paris
BEGIN:DAYLIGHT
TZOFFSETFROM:+0100
TZOFFSETTO:+0200
TZNAME:CEST
DTSTART:20210328T010000
END:DAYLIGHT
BEGIN:STANDARD
TZOFFSETFROM:+0200
TZOFFSETTO:+0100
TZNAME:CET
DTSTART:20211031T010000
END:STANDARD
BEGIN:DAYLIGHT
TZOFFSETFROM:+0100
TZOFFSETTO:+0200
TZNAME:CEST
DTSTART:20220327T010000
END:DAYLIGHT
BEGIN:STANDARD
TZOFFSETFROM:+0200
TZOFFSETTO:+0100
TZNAME:CET
DTSTART:20221030T010000
END:STANDARD
BEGIN:DAYLIGHT
TZOFFSETFROM:+0100
TZOFFSETTO:+0200
TZNAME:CEST
DTSTART:20230326T010000
END:DAYLIGHT
BEGIN:STANDARD
TZOFFSETFROM:+0200
TZOFFSETTO:+0100
TZNAME:CET
DTSTART:20231029T010000
END:STANDARD
END:VTIMEZONE
BEGIN:VEVENT
DTSTART;TZID=Europe/Paris:20220405T200000
DTEND;TZID=Europe/Paris:20220405T220000
DTSTAMP:20260422T165651
CREATED:20220406T142952Z
LAST-MODIFIED:20220406T143019Z
UID:2737-1649188800-1649196000@www.chorale-aideo.fr
SUMMARY:Répétition 23
DESCRIPTION:Retour sur le concert du 2 avril \nRetiens la nuit \nLa Ballade Nord-irlandaise \nArmstrong
URL:https://www.chorale-aideo.fr/index.php/event/repetition-5/
LOCATION:Conservatoire de Musique\, 5\, esplanade Rabelais\, Hérouville Saint Clair\, 14200\, France
CATEGORIES:Répétition
END:VEVENT
BEGIN:VEVENT
DTSTART;TZID=Europe/Paris:20220426T200000
DTEND;TZID=Europe/Paris:20220426T220000
DTSTAMP:20260422T165651
CREATED:20220420T195955Z
LAST-MODIFIED:20220425T195836Z
UID:2782-1651003200-1651010400@www.chorale-aideo.fr
SUMMARY:Répétition 24
DESCRIPTION:La Ballade Nord-Irlandaise \nT’as beau pas être beau \nZiambe O \nLes comédiens \nCouleur Café \nLes P’tits cafés
URL:https://www.chorale-aideo.fr/index.php/event/repetition-24/
LOCATION:Conservatoire de Musique\, 5\, esplanade Rabelais\, Hérouville Saint Clair\, 14200\, France
CATEGORIES:Répétition
END:VEVENT
END:VCALENDAR