BEGIN:VCALENDAR
VERSION:2.0
PRODID:-//Aïdeo Chorale - ECPv6.15.11//NONSGML v1.0//EN
CALSCALE:GREGORIAN
METHOD:PUBLISH
X-WR-CALNAME:Aïdeo Chorale
X-ORIGINAL-URL:https://www.chorale-aideo.fr
X-WR-CALDESC:Évènements pour Aïdeo Chorale
REFRESH-INTERVAL;VALUE=DURATION:PT1H
X-Robots-Tag:noindex
X-PUBLISHED-TTL:PT1H
BEGIN:VTIMEZONE
TZID:Europe/Paris
BEGIN:DAYLIGHT
TZOFFSETFROM:+0100
TZOFFSETTO:+0200
TZNAME:CEST
DTSTART:20210328T010000
END:DAYLIGHT
BEGIN:STANDARD
TZOFFSETFROM:+0200
TZOFFSETTO:+0100
TZNAME:CET
DTSTART:20211031T010000
END:STANDARD
BEGIN:DAYLIGHT
TZOFFSETFROM:+0100
TZOFFSETTO:+0200
TZNAME:CEST
DTSTART:20220327T010000
END:DAYLIGHT
BEGIN:STANDARD
TZOFFSETFROM:+0200
TZOFFSETTO:+0100
TZNAME:CET
DTSTART:20221030T010000
END:STANDARD
BEGIN:DAYLIGHT
TZOFFSETFROM:+0100
TZOFFSETTO:+0200
TZNAME:CEST
DTSTART:20230326T010000
END:DAYLIGHT
BEGIN:STANDARD
TZOFFSETFROM:+0200
TZOFFSETTO:+0100
TZNAME:CET
DTSTART:20231029T010000
END:STANDARD
END:VTIMEZONE
BEGIN:VEVENT
DTSTART;TZID=Europe/Paris:20220503T200000
DTEND;TZID=Europe/Paris:20220503T220000
DTSTAMP:20260422T151532
CREATED:20220420T200042Z
LAST-MODIFIED:20220425T200032Z
UID:2784-1651608000-1651615200@www.chorale-aideo.fr
SUMMARY:Répétition 25
DESCRIPTION:J’veux du soleil \nAsimbonanga \nLes mains d’or \nCalifornia deaming
URL:https://www.chorale-aideo.fr/index.php/event/repetition-25/
LOCATION:Conservatoire de Musique\, 5\, esplanade Rabelais\, Hérouville Saint Clair\, 14200\, France
CATEGORIES:Répétition
END:VEVENT
BEGIN:VEVENT
DTSTART;TZID=Europe/Paris:20220510T200000
DTEND;TZID=Europe/Paris:20220510T220000
DTSTAMP:20260422T151532
CREATED:20220425T200307Z
LAST-MODIFIED:20220425T200307Z
UID:2796-1652212800-1652220000@www.chorale-aideo.fr
SUMMARY:Répétition 26
DESCRIPTION:Retiens la nuit \nJ’veux du soleil \nCantique de Jean Racine \nFreedom
URL:https://www.chorale-aideo.fr/index.php/event/repetition-26/
LOCATION:Conservatoire de Musique\, 5\, esplanade Rabelais\, Hérouville Saint Clair\, 14200\, France
CATEGORIES:Répétition
END:VEVENT
BEGIN:VEVENT
DTSTART;TZID=Europe/Paris:20220517T200000
DTEND;TZID=Europe/Paris:20220517T220000
DTSTAMP:20260422T151532
CREATED:20220425T200550Z
LAST-MODIFIED:20220517T145002Z
UID:2798-1652817600-1652824800@www.chorale-aideo.fr
SUMMARY:Répétition 27
DESCRIPTION:J’veux du soleil \nRetiens la nuit \nCantique de Jean Racine
URL:https://www.chorale-aideo.fr/index.php/event/repetition-27/
LOCATION:Conservatoire de Musique\, 5\, esplanade Rabelais\, Hérouville Saint Clair\, 14200\, France
CATEGORIES:Répétition
END:VEVENT
BEGIN:VEVENT
DTSTART;TZID=Europe/Paris:20220524T200000
DTEND;TZID=Europe/Paris:20220524T220000
DTSTAMP:20260422T151532
CREATED:20220425T200820Z
LAST-MODIFIED:20220517T145047Z
UID:2801-1653422400-1653429600@www.chorale-aideo.fr
SUMMARY:Répétition 28
DESCRIPTION:Les feuilles mortes \nRetiens la nuit \nMedley de Piaf
URL:https://www.chorale-aideo.fr/index.php/event/repetition-28/
LOCATION:Conservatoire de Musique\, 5\, esplanade Rabelais\, Hérouville Saint Clair\, 14200\, France
CATEGORIES:Répétition
END:VEVENT
BEGIN:VEVENT
DTSTART;TZID=Europe/Paris:20220531T200000
DTEND;TZID=Europe/Paris:20220531T220000
DTSTAMP:20260422T151532
CREATED:20220425T201006Z
LAST-MODIFIED:20220518T215623Z
UID:2804-1654027200-1654034400@www.chorale-aideo.fr
SUMMARY:Répétition 29
DESCRIPTION:Filage du programme avec pianiste dans l’Auditorium
URL:https://www.chorale-aideo.fr/index.php/event/repetition-29/
LOCATION:Conservatoire de Musique\, 5\, esplanade Rabelais\, Hérouville Saint Clair\, 14200\, France
CATEGORIES:Répétition
END:VEVENT
END:VCALENDAR