BEGIN:VCALENDAR
VERSION:2.0
PRODID:-//Aïdeo Chorale - ECPv6.15.11//NONSGML v1.0//EN
CALSCALE:GREGORIAN
METHOD:PUBLISH
X-WR-CALNAME:Aïdeo Chorale
X-ORIGINAL-URL:https://www.chorale-aideo.fr
X-WR-CALDESC:Évènements pour Aïdeo Chorale
REFRESH-INTERVAL;VALUE=DURATION:PT1H
X-Robots-Tag:noindex
X-PUBLISHED-TTL:PT1H
BEGIN:VTIMEZONE
TZID:Europe/Paris
BEGIN:DAYLIGHT
TZOFFSETFROM:+0100
TZOFFSETTO:+0200
TZNAME:CEST
DTSTART:20220327T010000
END:DAYLIGHT
BEGIN:STANDARD
TZOFFSETFROM:+0200
TZOFFSETTO:+0100
TZNAME:CET
DTSTART:20221030T010000
END:STANDARD
BEGIN:DAYLIGHT
TZOFFSETFROM:+0100
TZOFFSETTO:+0200
TZNAME:CEST
DTSTART:20230326T010000
END:DAYLIGHT
BEGIN:STANDARD
TZOFFSETFROM:+0200
TZOFFSETTO:+0100
TZNAME:CET
DTSTART:20231029T010000
END:STANDARD
BEGIN:DAYLIGHT
TZOFFSETFROM:+0100
TZOFFSETTO:+0200
TZNAME:CEST
DTSTART:20240331T010000
END:DAYLIGHT
BEGIN:STANDARD
TZOFFSETFROM:+0200
TZOFFSETTO:+0100
TZNAME:CET
DTSTART:20241027T010000
END:STANDARD
END:VTIMEZONE
BEGIN:VEVENT
DTSTART;TZID=Europe/Paris:20230404T200000
DTEND;TZID=Europe/Paris:20230404T220000
DTSTAMP:20260421T195702
CREATED:20230125T155155Z
LAST-MODIFIED:20230125T155155Z
UID:3382-1680638400-1680645600@www.chorale-aideo.fr
SUMMARY:2022-2023 : Répétition 22
DESCRIPTION:Berceuse de Bénabar \nLes mains d’or \nAsimbonanga
URL:https://www.chorale-aideo.fr/index.php/event/2022-2023-repetition-22/
LOCATION:Conservatoire de Musique\, 5\, esplanade Rabelais\, Hérouville Saint Clair\, 14200\, France
CATEGORIES:Répétition
END:VEVENT
BEGIN:VEVENT
DTSTART;TZID=Europe/Paris:20230411T200000
DTEND;TZID=Europe/Paris:20230411T220000
DTSTAMP:20260421T195702
CREATED:20230125T155254Z
LAST-MODIFIED:20230125T155254Z
UID:3384-1681243200-1681250400@www.chorale-aideo.fr
SUMMARY:2022-2023 : Répétition 23
DESCRIPTION:Berceuse de Bénabar \nLes mains d’or \nEatneman Vuelie
URL:https://www.chorale-aideo.fr/index.php/event/2022-2023-repetition-23/
LOCATION:Conservatoire de Musique\, 5\, esplanade Rabelais\, Hérouville Saint Clair\, 14200\, France
CATEGORIES:Répétition
END:VEVENT
END:VCALENDAR