BEGIN:VCALENDAR
VERSION:2.0
PRODID:-//Aïdeo Chorale - ECPv6.15.11//NONSGML v1.0//EN
CALSCALE:GREGORIAN
METHOD:PUBLISH
X-ORIGINAL-URL:https://www.chorale-aideo.fr
X-WR-CALDESC:Évènements pour Aïdeo Chorale
REFRESH-INTERVAL;VALUE=DURATION:PT1H
X-Robots-Tag:noindex
X-PUBLISHED-TTL:PT1H
BEGIN:VTIMEZONE
TZID:Europe/Paris
BEGIN:DAYLIGHT
TZOFFSETFROM:+0100
TZOFFSETTO:+0200
TZNAME:CEST
DTSTART:20220327T010000
END:DAYLIGHT
BEGIN:STANDARD
TZOFFSETFROM:+0200
TZOFFSETTO:+0100
TZNAME:CET
DTSTART:20221030T010000
END:STANDARD
BEGIN:DAYLIGHT
TZOFFSETFROM:+0100
TZOFFSETTO:+0200
TZNAME:CEST
DTSTART:20230326T010000
END:DAYLIGHT
BEGIN:STANDARD
TZOFFSETFROM:+0200
TZOFFSETTO:+0100
TZNAME:CET
DTSTART:20231029T010000
END:STANDARD
BEGIN:DAYLIGHT
TZOFFSETFROM:+0100
TZOFFSETTO:+0200
TZNAME:CEST
DTSTART:20240331T010000
END:DAYLIGHT
BEGIN:STANDARD
TZOFFSETFROM:+0200
TZOFFSETTO:+0100
TZNAME:CET
DTSTART:20241027T010000
END:STANDARD
END:VTIMEZONE
BEGIN:VEVENT
DTSTART;TZID=Europe/Paris:20230502T200000
DTEND;TZID=Europe/Paris:20230502T220000
DTSTAMP:20260421T182453
CREATED:20230423T154923Z
LAST-MODIFIED:20230503T132130Z
UID:3460-1683057600-1683064800@www.chorale-aideo.fr
SUMMARY:2022-2023 : Répétition 24
DESCRIPTION:Asimbonanga \n\n\n\nJ’veux du soleil \n\n\n\nEatneman Vuelie \n\n\n\n\n\nRetiens la nuit
URL:https://www.chorale-aideo.fr/index.php/event/2022-2023-repetition-24/
LOCATION:Conservatoire de Musique\, 5\, esplanade Rabelais\, Hérouville Saint Clair\, 14200\, France
CATEGORIES:Répétition
END:VEVENT
BEGIN:VEVENT
DTSTART;TZID=Europe/Paris:20230509T200000
DTEND;TZID=Europe/Paris:20230509T220000
DTSTAMP:20260421T182453
CREATED:20230423T155652Z
LAST-MODIFIED:20230515T202317Z
UID:3462-1683662400-1683669600@www.chorale-aideo.fr
SUMMARY:2022-2023 : Répétition 25
DESCRIPTION:Ziambe O \nAsimbonanga \nJ’veux du soleil \nLes mains d’or \n\n\n\n\n\n 
URL:https://www.chorale-aideo.fr/index.php/event/2022-2023-repetition-25/
LOCATION:Conservatoire de Musique\, 5\, esplanade Rabelais\, Hérouville Saint Clair\, 14200\, France
CATEGORIES:Répétition
END:VEVENT
BEGIN:VEVENT
DTSTART;TZID=Europe/Paris:20230516T200000
DTEND;TZID=Europe/Paris:20230516T220000
DTSTAMP:20260421T182453
CREATED:20230423T155805Z
LAST-MODIFIED:20230515T202600Z
UID:3464-1684267200-1684274400@www.chorale-aideo.fr
SUMMARY:2022-2023 : Répétition 26
DESCRIPTION:Ziambe O \nAsimbonanga \nJ’veux du soleil \nLes mains d’or \nEatnemen Vuelie \nT’as beau pas être beau \nRetiens la nuit \nFreedom \nBallade nord-irlandaise
URL:https://www.chorale-aideo.fr/index.php/event/2022-2023-repetition-26/
LOCATION:Conservatoire de Musique\, 5\, esplanade Rabelais\, Hérouville Saint Clair\, 14200\, France
CATEGORIES:Répétition
END:VEVENT
BEGIN:VEVENT
DTSTART;TZID=Europe/Paris:20230523T200000
DTEND;TZID=Europe/Paris:20230523T220000
DTSTAMP:20260421T182453
CREATED:20230423T155908Z
LAST-MODIFIED:20230515T202624Z
UID:3466-1684872000-1684879200@www.chorale-aideo.fr
SUMMARY:2022-2023 : Répétition 27
DESCRIPTION:Ziambe O \nAsimbonanga \nJ’veux du soleil \nLes mains d’or \nEatnemen Vuelie \nT’as beau pas être beau \nRetiens la nuit \nFreedom \nBallade nord-irlandaise
URL:https://www.chorale-aideo.fr/index.php/event/2022-2023-repetition-27/
LOCATION:Conservatoire de Musique\, 5\, esplanade Rabelais\, Hérouville Saint Clair\, 14200\, France
CATEGORIES:Répétition
END:VEVENT
BEGIN:VEVENT
DTSTART;TZID=Europe/Paris:20230530T200000
DTEND;TZID=Europe/Paris:20230530T220000
DTSTAMP:20260421T182453
CREATED:20230423T160100Z
LAST-MODIFIED:20230515T202656Z
UID:3468-1685476800-1685484000@www.chorale-aideo.fr
SUMMARY:2022-2023 : Répétition 28
DESCRIPTION:Asimbonanga \n\n\n\nJ’veux du soleil \nLes mains d’or \nEatneman Vuelie \n\n\n\nT’as beau pas être beau \n\n\n\nRetiens la nuit \n\n\n\nEverybody Sing Freedom \nLa Ballade Nord-Irlandaise
URL:https://www.chorale-aideo.fr/index.php/event/2022-2023-repetition-28/
LOCATION:Conservatoire de Musique\, 5\, esplanade Rabelais\, Hérouville Saint Clair\, 14200\, France
CATEGORIES:Répétition
END:VEVENT
END:VCALENDAR