BEGIN:VCALENDAR
VERSION:2.0
PRODID:-//Aïdeo Chorale - ECPv6.15.11//NONSGML v1.0//EN
CALSCALE:GREGORIAN
METHOD:PUBLISH
X-WR-CALNAME:Aïdeo Chorale
X-ORIGINAL-URL:https://www.chorale-aideo.fr
X-WR-CALDESC:Évènements pour Aïdeo Chorale
REFRESH-INTERVAL;VALUE=DURATION:PT1H
X-Robots-Tag:noindex
X-PUBLISHED-TTL:PT1H
BEGIN:VTIMEZONE
TZID:Europe/Paris
BEGIN:DAYLIGHT
TZOFFSETFROM:+0100
TZOFFSETTO:+0200
TZNAME:CEST
DTSTART:20220327T010000
END:DAYLIGHT
BEGIN:STANDARD
TZOFFSETFROM:+0200
TZOFFSETTO:+0100
TZNAME:CET
DTSTART:20221030T010000
END:STANDARD
BEGIN:DAYLIGHT
TZOFFSETFROM:+0100
TZOFFSETTO:+0200
TZNAME:CEST
DTSTART:20230326T010000
END:DAYLIGHT
BEGIN:STANDARD
TZOFFSETFROM:+0200
TZOFFSETTO:+0100
TZNAME:CET
DTSTART:20231029T010000
END:STANDARD
BEGIN:DAYLIGHT
TZOFFSETFROM:+0100
TZOFFSETTO:+0200
TZNAME:CEST
DTSTART:20240331T010000
END:DAYLIGHT
BEGIN:STANDARD
TZOFFSETFROM:+0200
TZOFFSETTO:+0100
TZNAME:CET
DTSTART:20241027T010000
END:STANDARD
END:VTIMEZONE
BEGIN:VEVENT
DTSTART;TZID=Europe/Paris:20231107T203000
DTEND;TZID=Europe/Paris:20231107T220000
DTSTAMP:20260421T083154
CREATED:20231106T195710Z
LAST-MODIFIED:20231106T195710Z
UID:3633-1699389000-1699394400@www.chorale-aideo.fr
SUMMARY:2023-2024 : Répétition 5
DESCRIPTION:Bambali Bamba\nIra Congo\nZiambe O\nGaudete\nCeltic Dance\nLe jardi extraordinaire
URL:https://www.chorale-aideo.fr/index.php/event/2023-2024-repetition-5/
LOCATION:Conservatoire de Musique\, 5\, esplanade Rabelais\, Hérouville Saint Clair\, 14200\, France
CATEGORIES:Répétition
END:VEVENT
BEGIN:VEVENT
DTSTART;TZID=Europe/Paris:20231114T203000
DTEND;TZID=Europe/Paris:20231114T220000
DTSTAMP:20260421T083154
CREATED:20231106T200907Z
LAST-MODIFIED:20231106T200907Z
UID:3636-1699993800-1699999200@www.chorale-aideo.fr
SUMMARY:2023-2024 : Répétition 6
DESCRIPTION:Ira Congo\nZiambe O\nGaudete\nCeltic Dance\nMarie Jeanne Gabrielle
URL:https://www.chorale-aideo.fr/index.php/event/2023-2024-repetition-6/
LOCATION:Conservatoire de Musique\, 5\, esplanade Rabelais\, Hérouville Saint Clair\, 14200\, France
CATEGORIES:Répétition
END:VEVENT
BEGIN:VEVENT
DTSTART;TZID=Europe/Paris:20231121T203000
DTEND;TZID=Europe/Paris:20231121T220000
DTSTAMP:20260421T083154
CREATED:20231106T201058Z
LAST-MODIFIED:20231106T201058Z
UID:3638-1700598600-1700604000@www.chorale-aideo.fr
SUMMARY:2023-2024 : Répétition 7
DESCRIPTION:Ira Congo\nGaudete\nCeltic Dance\nMarie Jeanne Gabrielle\nLe jardin extraordinaire
URL:https://www.chorale-aideo.fr/index.php/event/2023-2024-repetition-7/
LOCATION:Conservatoire de Musique\, 5\, esplanade Rabelais\, Hérouville Saint Clair\, 14200\, France
CATEGORIES:Répétition
END:VEVENT
BEGIN:VEVENT
DTSTART;TZID=Europe/Paris:20231128T203000
DTEND;TZID=Europe/Paris:20231128T220000
DTSTAMP:20260421T083154
CREATED:20231106T201517Z
LAST-MODIFIED:20231106T201517Z
UID:3642-1701203400-1701208800@www.chorale-aideo.fr
SUMMARY:2023-2024 : Répétition 8
DESCRIPTION:Ira Congo\nBambali Bamba\nGaudete\nCeltic Dance\nMarie Jeanne Gabrielle\nLes filles de Galway
URL:https://www.chorale-aideo.fr/index.php/event/2023-2024-repetition-8/
LOCATION:Conservatoire de Musique\, 5\, esplanade Rabelais\, Hérouville Saint Clair\, 14200\, France
CATEGORIES:Répétition
END:VEVENT
END:VCALENDAR