BEGIN:VCALENDAR
VERSION:2.0
PRODID:-//Aïdeo Chorale - ECPv6.15.11//NONSGML v1.0//EN
CALSCALE:GREGORIAN
METHOD:PUBLISH
X-WR-CALNAME:Aïdeo Chorale
X-ORIGINAL-URL:https://www.chorale-aideo.fr
X-WR-CALDESC:Évènements pour Aïdeo Chorale
REFRESH-INTERVAL;VALUE=DURATION:PT1H
X-Robots-Tag:noindex
X-PUBLISHED-TTL:PT1H
BEGIN:VTIMEZONE
TZID:Europe/Paris
BEGIN:DAYLIGHT
TZOFFSETFROM:+0100
TZOFFSETTO:+0200
TZNAME:CEST
DTSTART:20220327T010000
END:DAYLIGHT
BEGIN:STANDARD
TZOFFSETFROM:+0200
TZOFFSETTO:+0100
TZNAME:CET
DTSTART:20221030T010000
END:STANDARD
BEGIN:DAYLIGHT
TZOFFSETFROM:+0100
TZOFFSETTO:+0200
TZNAME:CEST
DTSTART:20230326T010000
END:DAYLIGHT
BEGIN:STANDARD
TZOFFSETFROM:+0200
TZOFFSETTO:+0100
TZNAME:CET
DTSTART:20231029T010000
END:STANDARD
BEGIN:DAYLIGHT
TZOFFSETFROM:+0100
TZOFFSETTO:+0200
TZNAME:CEST
DTSTART:20240331T010000
END:DAYLIGHT
BEGIN:STANDARD
TZOFFSETFROM:+0200
TZOFFSETTO:+0100
TZNAME:CET
DTSTART:20241027T010000
END:STANDARD
END:VTIMEZONE
BEGIN:VEVENT
DTSTART;TZID=Europe/Paris:20231205T203000
DTEND;TZID=Europe/Paris:20231205T220000
DTSTAMP:20260421T070349
CREATED:20231211T220415Z
LAST-MODIFIED:20231211T220415Z
UID:3772-1701808200-1701813600@www.chorale-aideo.fr
SUMMARY:2023-2024 : Répétition 9
DESCRIPTION:Bambali \nBalade Nord Irlandaise \nIra Congo \nGaudete \nCeltic danse \nMarie Jeanne Gabrielle \nMichelle à l’unisson
URL:https://www.chorale-aideo.fr/index.php/event/2023-2024-repetition-9/
LOCATION:Conservatoire de Musique\, 5\, esplanade Rabelais\, Hérouville Saint Clair\, 14200\, France
CATEGORIES:Répétition
END:VEVENT
BEGIN:VEVENT
DTSTART;TZID=Europe/Paris:20231212T203000
DTEND;TZID=Europe/Paris:20231212T220000
DTSTAMP:20260421T070349
CREATED:20231211T220615Z
LAST-MODIFIED:20240525T122730Z
UID:3774-1702413000-1702418400@www.chorale-aideo.fr
SUMMARY:2023-2024 : Répétition 10
DESCRIPTION:Ira Congo \nZiambe O \nCeltic danse \nGaudete \nMarie Jeanne Gabrielle \nMichelle
URL:https://www.chorale-aideo.fr/index.php/event/2023-2024-repetition-10/
LOCATION:Conservatoire de Musique\, 5\, esplanade Rabelais\, Hérouville Saint Clair\, 14200\, France
CATEGORIES:Répétition
END:VEVENT
END:VCALENDAR