BEGIN:VCALENDAR
VERSION:2.0
PRODID:-//Aïdeo Chorale - ECPv6.15.11//NONSGML v1.0//EN
CALSCALE:GREGORIAN
METHOD:PUBLISH
X-WR-CALNAME:Aïdeo Chorale
X-ORIGINAL-URL:https://www.chorale-aideo.fr
X-WR-CALDESC:Évènements pour Aïdeo Chorale
REFRESH-INTERVAL;VALUE=DURATION:PT1H
X-Robots-Tag:noindex
X-PUBLISHED-TTL:PT1H
BEGIN:VTIMEZONE
TZID:Europe/Paris
BEGIN:DAYLIGHT
TZOFFSETFROM:+0100
TZOFFSETTO:+0200
TZNAME:CEST
DTSTART:20230326T010000
END:DAYLIGHT
BEGIN:STANDARD
TZOFFSETFROM:+0200
TZOFFSETTO:+0100
TZNAME:CET
DTSTART:20231029T010000
END:STANDARD
BEGIN:DAYLIGHT
TZOFFSETFROM:+0100
TZOFFSETTO:+0200
TZNAME:CEST
DTSTART:20240331T010000
END:DAYLIGHT
BEGIN:STANDARD
TZOFFSETFROM:+0200
TZOFFSETTO:+0100
TZNAME:CET
DTSTART:20241027T010000
END:STANDARD
BEGIN:DAYLIGHT
TZOFFSETFROM:+0100
TZOFFSETTO:+0200
TZNAME:CEST
DTSTART:20250330T010000
END:DAYLIGHT
BEGIN:STANDARD
TZOFFSETFROM:+0200
TZOFFSETTO:+0100
TZNAME:CET
DTSTART:20251026T010000
END:STANDARD
END:VTIMEZONE
BEGIN:VEVENT
DTSTART;TZID=Europe/Paris:20240903T203000
DTEND;TZID=Europe/Paris:20240903T220000
DTSTAMP:20260420T173133
CREATED:20240901T135836Z
LAST-MODIFIED:20240916T211949Z
UID:4089-1725395400-1725400800@www.chorale-aideo.fr
SUMMARY:2024-2025 : Répétition 1
DESCRIPTION:Reprise des répétitions pour le concert du dimanche 22 septembre dans le cadre du Festival “Toutes Voix Dehors”. \nNous allons travailler le chant “Chanter”. Il vous faut au moins les paroles ou mieux\, les deux premieres pages. Si certains peuvent tirer deux exemplaires\,  n’hésitez pas\,  cela nous permettra au moins de chanter à deux sur une partition.\nRamener également toutes les partitions du dernier concert et “Retiens la nuit”\nPour rappel :\n– La Balade Nord Irlandaise\n– Celtic Dance\n– Vem kan Segla\n– Gaudete\n– Ira Congo\n– Ziambe O\n– Bambali\n– The cafe\n– Couleur café\n–  Retiens la nuit\n– Chanter
URL:https://www.chorale-aideo.fr/index.php/event/2024-2025-repetition-1/
LOCATION:Conservatoire de Musique\, 5\, esplanade Rabelais\, Hérouville Saint Clair\, 14200\, France
CATEGORIES:Répétition
END:VEVENT
BEGIN:VEVENT
DTSTART;TZID=Europe/Paris:20240910T201500
DTEND;TZID=Europe/Paris:20240910T221500
DTSTAMP:20260420T173133
CREATED:20240916T211347Z
LAST-MODIFIED:20240916T211347Z
UID:4108-1725999300-1726006500@www.chorale-aideo.fr
SUMMARY:2024-2025 : Répétition 2
DESCRIPTION:Bref échauffement\nVem kan Segla\nCeltic Dance\nGaudete\nRetiens la nuit\n\nPuis on refait tous les chants avec le mouvement.\nApportez votre chèche
URL:https://www.chorale-aideo.fr/index.php/event/2024-2025-repetition-2/
LOCATION:Conservatoire de Musique\, 5\, esplanade Rabelais\, Hérouville Saint Clair\, 14200\, France
CATEGORIES:Répétition
END:VEVENT
BEGIN:VEVENT
DTSTART;TZID=Europe/Paris:20240917T201500
DTEND;TZID=Europe/Paris:20240917T221500
DTSTAMP:20260420T173133
CREATED:20240916T211728Z
LAST-MODIFIED:20240916T211728Z
UID:4110-1726604100-1726611300@www.chorale-aideo.fr
SUMMARY:2024-2025 : Répétition 3
DESCRIPTION:Filage avec mouvements du concert du 22 septembre soit :\n– La ballade Nord Irlandaise\n– Celtic Dance\n– Vem Kan Segla\n– Gaudete\n– Ziambe O\n– Ira Congo\n– Bambali\n– Retiens la nuit\nDonc apportez votre chèche\nOn finira avec Chanter
URL:https://www.chorale-aideo.fr/index.php/event/2024-2025-repetition-3/
LOCATION:Conservatoire de Musique\, 5\, esplanade Rabelais\, Hérouville Saint Clair\, 14200\, France
CATEGORIES:Répétition
END:VEVENT
BEGIN:VEVENT
DTSTART;TZID=Europe/Paris:20240918T190000
DTEND;TZID=Europe/Paris:20240918T203000
DTSTAMP:20260420T173133
CREATED:20240901T140229Z
LAST-MODIFIED:20240916T210933Z
UID:4093-1726686000-1726691400@www.chorale-aideo.fr
SUMMARY:2024-2025 : Répétition 3-bis
DESCRIPTION:REPORT au mercredi 18 septembre \nRépétition du chant commun “Chanter” du Festival “Toutes Voix Dehors”. \n \n  \n 
URL:https://www.chorale-aideo.fr/index.php/event/2024-2025-repetition-1-bis/
LOCATION:La ferme du domaine de Beauregard – CAP’Sport\, 300 Rue du Mont\, 14200\, France
CATEGORIES:Répétition
END:VEVENT
END:VCALENDAR